BEGIN:VCALENDAR
VERSION:2.0
PRODID:-//heartfulnessmena.org - ECPv6.15.20//NONSGML v1.0//EN
CALSCALE:GREGORIAN
METHOD:PUBLISH
X-WR-CALNAME:heartfulnessmena.org
X-ORIGINAL-URL:https://heartfulnessmena.org
X-WR-CALDESC:Events for heartfulnessmena.org
REFRESH-INTERVAL;VALUE=DURATION:PT1H
X-Robots-Tag:noindex
X-PUBLISHED-TTL:PT1H
BEGIN:VTIMEZONE
TZID:UTC
BEGIN:STANDARD
TZOFFSETFROM:+0000
TZOFFSETTO:+0000
TZNAME:UTC
DTSTART:20230101T000000
END:STANDARD
END:VTIMEZONE
BEGIN:VEVENT
DTSTART;TZID=UTC:20240511T160000
DTEND;TZID=UTC:20240511T203000
DTSTAMP:20260423T145448
CREATED:20240510T050812Z
LAST-MODIFIED:20240510T054221Z
UID:2425-1715443200-1715459400@heartfulnessmena.org
SUMMARY:Journey of Life with Wealth Management & Entrepreneurship
DESCRIPTION:The Managing committee of ICAI(Dubai) Chapter NPIO takes great pleasure in inviting you to embark on an enlightening journey that delves into the intricate relationship between life\, wealth  management\, and entrepreneurship. \nIn this immersive experience\, we will explore the secrets of successful wealth management and entrepreneurship\, providing you with the tools and insights needed to navigate  life’s financial landscape with confidence and clarity. \nDon’t miss this opportunity to gain valuable insights\, connect with like-minded individuals\, and unlock the keys to a prosperous future. save thee date Saturday\, 11th May 2024 from 4:00 PM – 8:15 PM at Millennium plaza Downtown Hotel\, Sheikh Zayed Road \, Dubai\, UAE and join us together where we navigate the dynamic intersections of personal finance\, business acumen and life’s aspirations. \n 
URL:https://heartfulnessmena.org/event/journey-of-life-with-wealth-management-entrepreneurship-circular/
ATTACH;FMTTYPE=image/png:https://heartfulnessmena.org/wp-content/uploads/2024/05/image-3.png
END:VEVENT
BEGIN:VEVENT
DTSTART;TZID=UTC:20240512T080000
DTEND;TZID=UTC:20240512T170000
DTSTAMP:20260423T145448
CREATED:20240507T085125Z
LAST-MODIFIED:20240507T115508Z
UID:2397-1715500800-1715533200@heartfulnessmena.org
SUMMARY:Meditate with Daaji
DESCRIPTION:Join us for a transformative meditation session with Daaji on May 12th\, 2024\, at Heartfulness Meditation Center\, JLT\, Dubai. \nDon’t miss this opportunity to deepen your practice and discover inner peace.
URL:https://heartfulnessmena.org/event/meditate-with-daaji/
ATTACH;FMTTYPE=image/jpeg:https://heartfulnessmena.org/wp-content/uploads/2024/05/WhatsApp-Image-2024-05-07-at-12.32.41-PM.jpeg
END:VEVENT
BEGIN:VEVENT
DTSTART;TZID=UTC:20240516T060000
DTEND;TZID=UTC:20240516T210000
DTSTAMP:20260423T145448
CREATED:20240515T110144Z
LAST-MODIFIED:20240515T142749Z
UID:2438-1715839200-1715893200@heartfulnessmena.org
SUMMARY:Being Heartful Every Day
DESCRIPTION:On this very auspicious year marking the 125th birth anniversary of Pujya Shri Babuji Maharaj\, following the recent celebration batches\, we invite you to join us in a unique opportunity to continue investing an entire year into your personal development. \nThe 365-day “Being Heartful Every Day” program has been designed to help all of us experience and express noble qualities of the heart\, such as peace\, composure\, compassion\, courage\, clarity\, generosity\, humility\, selflessness\, service\, and most importantly\, love. \nThe program is relevant for new seekers and experienced practitioners\, and will support us to: \nhabituate and refine the morning and evening routines of practice through daily morning and evening live sessions led by a trainer\, \ninvest in reading spiritual literature\, \ncultivate 52 heart qualities throughout the year – one each week – through reflective and interactive activities\, and \nserve fellow human beings by sharing Heartfulness with their near and dear ones. \nThe program has the blessing and invitation of beloved Daaji \nLISTEN HERE \nYou are invited to register through the Heartfulness App (hfn.li/bhed). Please also encourage your near and dear ones to join. \nREGISTER NOW \nWe look forward to working with you toward a fulfilling year of spiritual development. \nHeartful regards\, \nBeing Heartful Every Day Team
URL:https://heartfulnessmena.org/event/being-heartful-every-day/
ATTACH;FMTTYPE=image/jpeg:https://heartfulnessmena.org/wp-content/uploads/2024/05/WhatsApp-Image-2024-05-15-at-4.16.16-PM-1.jpeg
END:VEVENT
END:VCALENDAR