BEGIN:VCALENDAR
VERSION:2.0
PRODID:-//heartfulnessmena.org - ECPv6.15.20//NONSGML v1.0//EN
CALSCALE:GREGORIAN
METHOD:PUBLISH
X-WR-CALNAME:heartfulnessmena.org
X-ORIGINAL-URL:https://heartfulnessmena.org
X-WR-CALDESC:Events for heartfulnessmena.org
REFRESH-INTERVAL;VALUE=DURATION:PT1H
X-Robots-Tag:noindex
X-PUBLISHED-TTL:PT1H
BEGIN:VTIMEZONE
TZID:UTC
BEGIN:STANDARD
TZOFFSETFROM:+0000
TZOFFSETTO:+0000
TZNAME:UTC
DTSTART:20220101T000000
END:STANDARD
END:VTIMEZONE
BEGIN:VEVENT
DTSTART;TZID=UTC:20231106T080000
DTEND;TZID=UTC:20231112T083000
DTSTAMP:20260423T231507
CREATED:20231107T061049Z
LAST-MODIFIED:20231107T061049Z
UID:2102-1699257600-1699777800@heartfulnessmena.org
SUMMARY:Glendale International School every Monday to Saturday
DESCRIPTION:
URL:https://heartfulnessmena.org/event/glendale-international-school-every-monday-to-saturday/
ATTACH;FMTTYPE=image/png:https://heartfulnessmena.org/wp-content/uploads/2023/11/HFN-Glendale-poster.png
END:VEVENT
BEGIN:VEVENT
DTSTART;TZID=UTC:20231118T083000
DTEND;TZID=UTC:20231118T133000
DTSTAMP:20260423T231507
CREATED:20231122T104052Z
LAST-MODIFIED:20231122T104052Z
UID:2109-1700296200-1700314200@heartfulnessmena.org
SUMMARY:Tips to become intense Abhyasis
DESCRIPTION:
URL:https://heartfulnessmena.org/event/tips-to-become-intense-abhyasis/
ATTACH;FMTTYPE=image/jpeg:https://heartfulnessmena.org/wp-content/uploads/2023/11/WhatsApp-Image-2023-11-14-at-10.30.37-AM.jpeg
END:VEVENT
END:VCALENDAR