BEGIN:VCALENDAR
VERSION:2.0
PRODID:-//heartfulnessmena.org - ECPv6.15.20//NONSGML v1.0//EN
CALSCALE:GREGORIAN
METHOD:PUBLISH
X-WR-CALNAME:heartfulnessmena.org
X-ORIGINAL-URL:https://heartfulnessmena.org
X-WR-CALDESC:Events for heartfulnessmena.org
REFRESH-INTERVAL;VALUE=DURATION:PT1H
X-Robots-Tag:noindex
X-PUBLISHED-TTL:PT1H
BEGIN:VTIMEZONE
TZID:UTC
BEGIN:STANDARD
TZOFFSETFROM:+0000
TZOFFSETTO:+0000
TZNAME:UTC
DTSTART:20220101T000000
END:STANDARD
END:VTIMEZONE
BEGIN:VEVENT
DTSTART;TZID=UTC:20230604T152000
DTEND;TZID=UTC:20230604T200000
DTSTAMP:20260424T050902
CREATED:20230524T163439Z
LAST-MODIFIED:20230529T102149Z
UID:1426-1685892000-1685908800@heartfulnessmena.org
SUMMARY:Yoga4Unity\, AbuDhabi (A free event)
DESCRIPTION:Please find the flow of events as given below. \n3.20 pm – Registration\n4:00 pm – National Anthem of UAE and India\n4.05 pm – Welcome address by Mr Sanjay Meherish\, Regional Director\, Hearfulness MENA region\n4.10 pm – Address by Chief Guest Mr A Amarnath\, DCM\, India embassy\n4.15 pm – Heartfulness felicitates the chief guest\n4.30 pm – Heartfulness Yoga\, pranayama and relaxation\n5.30 pm – Talk by Yogi Manish Pole on One Breath One World\n6.20 pm – Laughter Yoga\n6.50 pm – Sound Yoga\n7.20 pm – Heartfulness Meditation\n7.50 pm – Felicitation\n8.00 pm – Vote of thanks \nPlease register by filling the form below. \n\n\n  \n\n\n\n Your name\n \n \n Your email\n \n \n Are you a Heartfulness Practitioner?\nYesNo\n \n Your message (optional)\n \n \nI agree with the Terms and Conditions.\n \nI agree and accept that my email ID and Whatsapp number shall be used to communicate with the Heartfulness activities in this region.\n \n\n \n\n\n\nDisclaimer: At this event\, events and photos may be recorded. By attending this event\, you may be included in these photos and videos. Your attendance at this event grants your permission to be in these photos or videos\, which may be used for educational\, archival or promotional purposes. \nNote:  \n1. Please note one parent shall accompany their respective child who is below 15 yrs of age as we would need to maintain silence during most of the programs. \n2.Please bring the essentials like yoga Mat\, water bottle\, towels as need be.
URL:https://heartfulnessmena.org/event/yoga4unityabudhabi/
ATTACH;FMTTYPE=image/jpeg:https://heartfulnessmena.org/wp-content/uploads/2023/05/Yoga4unity_Invite_FB-1200x1200px-scaled.jpg
END:VEVENT
BEGIN:VEVENT
DTSTART;TZID=UTC:20230616T063000
DTEND;TZID=UTC:20230616T073000
DTSTAMP:20260424T050902
CREATED:20230615T115946Z
LAST-MODIFIED:20230615T115946Z
UID:1513-1686897000-1686900600@heartfulnessmena.org
SUMMARY:Sampling and Tree Plantation at Glendale International School on 16th June at 6.30 am
DESCRIPTION:
URL:https://heartfulnessmena.org/event/sampling-and-tree-plantation-at-glendale-international-school-on-16th-june-at-6-30-am/
END:VEVENT
BEGIN:VEVENT
DTSTART;TZID=UTC:20230617T070000
DTEND;TZID=UTC:20230617T080000
DTSTAMP:20260424T050902
CREATED:20230615T123052Z
LAST-MODIFIED:20230616T045950Z
UID:1521-1686985200-1686988800@heartfulnessmena.org
SUMMARY:Louvre Abu Dhabi 17th June 7am
DESCRIPTION:
URL:https://heartfulnessmena.org/event/louvre-abudhabi-17th-june-7am/
END:VEVENT
BEGIN:VEVENT
DTSTART;TZID=UTC:20230618T090000
DTEND;TZID=UTC:20230618T220000
DTSTAMP:20260424T050902
CREATED:20230615T132839Z
LAST-MODIFIED:20230615T132839Z
UID:1529-1687078800-1687125600@heartfulnessmena.org
SUMMARY:Bliss Yoga at DWTC hall 6   18th June 9am
DESCRIPTION:
URL:https://heartfulnessmena.org/event/bliss-yoga-at-dwtc-hall-6-18th-june-9am/
ATTACH;FMTTYPE=image/jpeg:https://heartfulnessmena.org/wp-content/uploads/2023/06/WhatsApp-Image-2023-06-15-at-3.11.13-PM.jpeg
END:VEVENT
BEGIN:VEVENT
DTSTART;TZID=UTC:20230621T060000
DTEND;TZID=UTC:20230621T060000
DTSTAMP:20260424T050902
CREATED:20230615T133310Z
LAST-MODIFIED:20230615T133310Z
UID:1532-1687327200-1687327200@heartfulnessmena.org
SUMMARY:Dubai Ports  21st June 6 am
DESCRIPTION:
URL:https://heartfulnessmena.org/event/dubai-ports-21st-june-6-am/
END:VEVENT
BEGIN:VEVENT
DTSTART;TZID=UTC:20230621T080000
DTEND;TZID=UTC:20230621T170000
DTSTAMP:20260424T050902
CREATED:20231107T060509Z
LAST-MODIFIED:20231107T060509Z
UID:2099-1687334400-1687366800@heartfulnessmena.org
SUMMARY:Celebrating International Yoga Day with Springdales School on 21st June 2023
DESCRIPTION:
URL:https://heartfulnessmena.org/event/celebrating-international-yoga-day-with-springdales-school-on-21st-june-2023/
ATTACH;FMTTYPE=image/png:https://heartfulnessmena.org/wp-content/uploads/2023/11/HFN-Springdales-post.png
END:VEVENT
BEGIN:VEVENT
DTSTART;TZID=UTC:20230621T101500
DTEND;TZID=UTC:20230621T111500
DTSTAMP:20260424T050902
CREATED:20230615T134922Z
LAST-MODIFIED:20230616T050305Z
UID:1536-1687342500-1687346100@heartfulnessmena.org
SUMMARY:Heartfulness yoga and meditation session at Glendale International School 21st June
DESCRIPTION:
URL:https://heartfulnessmena.org/event/hfn-yoga-and-meditation-session-at-glendale-international-school-21st-june/
END:VEVENT
END:VCALENDAR