BEGIN:VCALENDAR
VERSION:2.0
PRODID:-//heartfulnessmena.org - ECPv6.15.20//NONSGML v1.0//EN
CALSCALE:GREGORIAN
METHOD:PUBLISH
X-WR-CALNAME:heartfulnessmena.org
X-ORIGINAL-URL:https://heartfulnessmena.org
X-WR-CALDESC:Events for heartfulnessmena.org
REFRESH-INTERVAL;VALUE=DURATION:PT1H
X-Robots-Tag:noindex
X-PUBLISHED-TTL:PT1H
BEGIN:VTIMEZONE
TZID:UTC
BEGIN:STANDARD
TZOFFSETFROM:+0000
TZOFFSETTO:+0000
TZNAME:UTC
DTSTART:20210101T000000
END:STANDARD
END:VTIMEZONE
BEGIN:VEVENT
DTSTART;TZID=UTC:20230402T080000
DTEND;TZID=UTC:20230402T170000
DTSTAMP:20260423T214911
CREATED:20230410T120908Z
LAST-MODIFIED:20230410T120908Z
UID:1361-1680422400-1680454800@heartfulnessmena.org
SUMMARY:The Institute of Chartered Accountants of India
DESCRIPTION:http://heartfulnessmena.org/wp-content/uploads/2023/04/VIDEO-2023-04-02-21-39-28-1.mp4\nhttp://heartfulnessmena.org/wp-content/uploads/2023/04/VIDEO-2023-04-02-21-39-28.mp4
URL:https://heartfulnessmena.org/event/the-institute-of-chartered-accountants-of-india/
ATTACH;FMTTYPE=image/png:https://heartfulnessmena.org/wp-content/uploads/2023/04/Bridging-the-gap.png
END:VEVENT
BEGIN:VEVENT
DTSTART;TZID=UTC:20230326T080000
DTEND;TZID=UTC:20230505T170000
DTSTAMP:20260423T214911
CREATED:20230113T050129Z
LAST-MODIFIED:20230328T103914Z
UID:793-1679817600-1683306000@heartfulnessmena.org
SUMMARY:Yoga Teacher Training
DESCRIPTION:Last call for the registration We are thrilled to offer this comprehensive training program to aspiring teachers like you\, and we want to make sure you don’t miss the opportunity to join us.  Our program is designed to provide you with the knowledge and skills necessary to excel in your field. With experienced instructors\, hands-on experience\, and comprehensive curriculum\, you’ll be well on your way to achieving your goals. \nDon’t miss it. \nRegister here:  http://hfn.link/ttc200dubai. \nWe are here to help you \nWith regards\nHeartfulness Yoga Academy ❤️ \nyoga@heartfulness.org \n+971507705384
URL:https://heartfulnessmena.org/event/yoga-teacher-training/
ATTACH;FMTTYPE=image/jpeg:https://heartfulnessmena.org/wp-content/uploads/2023/01/HFN-website-YTT.jpeg
END:VEVENT
BEGIN:VEVENT
DTSTART;TZID=UTC:20230319T080000
DTEND;TZID=UTC:20230319T200000
DTSTAMP:20260423T214911
CREATED:20230303T165637Z
LAST-MODIFIED:20230317T113338Z
UID:950-1679212800-1679256000@heartfulnessmena.org
SUMMARY:Yoga for unity & well-being
DESCRIPTION:Please fill the below form to register for the event. \n\n\n  \n\n\n\n Name \n \n \nMobile\n\n \nEmirate of stay\n \n \n Email ID\n \n \n WhatsApp number\n \n \nSelect Events(please note:Lunch and relax(1:00 PM to 2:00 PM))\n \nPranayama\, Heartfulness relaxation and Meditation(8:00 AM to 8:45 AM)\n \nArt therapy by Valentina (outdoor)(8:50 AM to 10:00 AM)\n \nYogi Sachin of Ancient Yoga(10:15 AM to 11:00 AM)\n \nHeartfulness Yoga(indoor)(11:10 AM to 12:00 Noon)\n \nGong Meditation by Dalia Kersha(outdoor)(11:10 AM to 12:00 Noon)\n \nLaughter Yoga by Mr. Suman Suneja(12:15 PM to 1:00 PM)\n \nInner child healing by Delna Mistry Anand(2:00 PM to 3:00 PM)\n \nDr Rizwana’s talk “Rock bottom to miraculous manifestation”(03:15 PM to 3:45 PM)\n \nPower Vinyasa Divine flow yoga by Ela(outdoor)(03:15 PM to 3:45 PM)\n \nBreath-Work Coupled with exercises by Mr. Manish Pole(3:45 PM to 4:15 PM)\n \nArt Workshop by Leena Thawrani Art Therapis(outdoor)(4:00 PM to 5:00 PM)\n \nSubconscious reprogramming by Govind Das(4:30 PM to 5:00 PM)\n \nBiohacking by C J Malhotra(5:10 PM to 5:40 PM)\n \nMobility session by Ajeesh(outdoor) (5:10 PM to 5:40 PM)\n \nSneha Aurora music therapy yoga(6:00 PM to 6:45 PM)\n \nBreathwork by Govind Das(outdoor)(6:00 PM to 6:45 PM)\n \nCrystal bowl healing by Manisha from Soulsvana(7:00 PM to 7:45 PM)\n \nSpecial session of ecstatic dance by Tarzan Artist Ecstatic dance(8:00 PM to 8:45 PM)\n \nVote of Thanks(8.45 PM to 9.00 PM)\n \n\n \n\n\n\nDisclaimer: At this event\, events and photos may be recorded. By attending this event\, you may be included in these photos and videos. Your attendance at this event grants your permission to be in these photos or videos\, which may be used for educational\, archival or promotional purposes. \nNote: Please bring the essentials like yoga Mat\, water bottle\, towels as need be. \n 
URL:https://heartfulnessmena.org/event/yoga-for-unity-well-being/
LOCATION:Heartfulness\, 108\,Gold Crest Executive – Cluster C Jumeirah Lake Tower – JLT\, Dubai\, United Arab Emirates
ATTACH;FMTTYPE=image/jpeg:https://heartfulnessmena.org/wp-content/uploads/2023/03/Yoga4U_Poster_V2-01.jpg
END:VEVENT
BEGIN:VEVENT
DTSTART;TZID=UTC:20230305T073000
DTEND;TZID=UTC:20230305T083000
DTSTAMP:20260423T214911
CREATED:20230303T174106Z
LAST-MODIFIED:20230304T085859Z
UID:967-1678001400-1678005000@heartfulnessmena.org
SUMMARY:Join our Meditation Session on Sunday
DESCRIPTION:
URL:https://heartfulnessmena.org/event/join-our-mediatation-session-on-sunday/
LOCATION:Heartfulness\, 108\,Gold Crest Executive – Cluster C Jumeirah Lake Tower – JLT\, Dubai\, United Arab Emirates
ATTACH;FMTTYPE=image/png:https://heartfulnessmena.org/wp-content/uploads/2023/03/March45yogamed.png
END:VEVENT
BEGIN:VEVENT
DTSTART;TZID=UTC:20230304T080000
DTEND;TZID=UTC:20230304T210000
DTSTAMP:20260423T214911
CREATED:20230303T174401Z
LAST-MODIFIED:20230304T081102Z
UID:970-1677916800-1677963600@heartfulnessmena.org
SUMMARY:Join our Yoga Session on every Saturday
DESCRIPTION:
URL:https://heartfulnessmena.org/event/join-our-yoga-session-on-every-saturday/
LOCATION:Heartfulness\, 108\,Gold Crest Executive – Cluster C Jumeirah Lake Tower – JLT\, Dubai\, United Arab Emirates
ATTACH;FMTTYPE=image/jpeg:https://heartfulnessmena.org/wp-content/uploads/2023/03/334193485_717370749862540_625834547530289996_n.jpg
END:VEVENT
BEGIN:VEVENT
DTSTART;TZID=UTC:20230101T073000
DTEND;TZID=UTC:20230101T083000
DTSTAMP:20260423T214911
CREATED:20230112T094147Z
LAST-MODIFIED:20230303T170733Z
UID:785-1672558200-1672561800@heartfulnessmena.org
SUMMARY:Meditation Session
DESCRIPTION:
URL:https://heartfulnessmena.org/event/meditation-session-2/
LOCATION:Heartfulness\, 108\,Gold Crest Executive – Cluster C Jumeirah Lake Tower – JLT\, Dubai\, United Arab Emirates
ATTACH;FMTTYPE=image/png:https://heartfulnessmena.org/wp-content/uploads/2023/01/HFNUAE_newyear.png
END:VEVENT
BEGIN:VEVENT
DTSTART;TZID=UTC:20221225T070000
DTEND;TZID=UTC:20221225T080000
DTSTAMP:20260423T214911
CREATED:20230112T090209Z
LAST-MODIFIED:20230303T171136Z
UID:782-1671951600-1671955200@heartfulnessmena.org
SUMMARY:Meditation Session
DESCRIPTION:
URL:https://heartfulnessmena.org/event/meditation-session/
LOCATION:Heartfulness\, 108\,Gold Crest Executive – Cluster C Jumeirah Lake Tower – JLT\, Dubai\, United Arab Emirates
ATTACH;FMTTYPE=image/png:https://heartfulnessmena.org/wp-content/uploads/2023/01/Approved-1.png
END:VEVENT
END:VCALENDAR