BEGIN:VCALENDAR
VERSION:2.0
PRODID:-//heartfulnessmena.org - ECPv6.15.20//NONSGML v1.0//EN
CALSCALE:GREGORIAN
METHOD:PUBLISH
X-WR-CALNAME:heartfulnessmena.org
X-ORIGINAL-URL:https://heartfulnessmena.org
X-WR-CALDESC:Events for heartfulnessmena.org
REFRESH-INTERVAL;VALUE=DURATION:PT1H
X-Robots-Tag:noindex
X-PUBLISHED-TTL:PT1H
BEGIN:VTIMEZONE
TZID:UTC
BEGIN:STANDARD
TZOFFSETFROM:+0000
TZOFFSETTO:+0000
TZNAME:UTC
DTSTART:20240101T000000
END:STANDARD
END:VTIMEZONE
BEGIN:VEVENT
DTSTART;TZID=UTC:20250101T073000
DTEND;TZID=UTC:20250101T080000
DTSTAMP:20260423T120113
CREATED:20241231T175533Z
LAST-MODIFIED:20251202T100953Z
UID:2681-1735716600-1735718400@heartfulnessmena.org
SUMMARY:Live meditation with Daaji from Kanha Shanti Vanam
DESCRIPTION:Start your New Year with a calm mind and an open heart. \nJoin Daaji for a live meditation session and embrace the journey of self-discovery\, peace\, and renewal. \nHere are the details:- \n🗓 Wednesday\, 01st Jan 2025\n🕰 07.30 am IST
URL:https://heartfulnessmena.org/event/live-meditation-with-daaji-from-kanha-shanti-vanam/
ATTACH;FMTTYPE=image/jpeg:https://heartfulnessmena.org/wp-content/uploads/2024/12/WhatsApp-Image-2024-12-31-at-22.58.58_884eae45.jpg
END:VEVENT
BEGIN:VEVENT
DTSTART;TZID=UTC:20250621T090000
DTEND;TZID=UTC:20250621T110000
DTSTAMP:20260423T120113
CREATED:20250617T054933Z
LAST-MODIFIED:20250620T135839Z
UID:2914-1750496400-1750503600@heartfulnessmena.org
SUMMARY:International Day of Yoga\, 2025
DESCRIPTION:Dubai Sports Council is happy to welcome you to participate on the International Day of Yoga at The Atrium at DIFC. \nJoin us with your family and friends. \nDate: June 21\,2025\nLocation:\nThe Atrium at DIFC\nBuilding 5\, Near GD5 entrance\nFront of LEGATUM PLAZA \nProgram Schedule: \n9:00AM – Registration\n9:30AM – Yoga\n10:30AM – Felicitation \nComplimentary parking is available at GD2 or GD5. \nLocation : https://maps.app.goo.gl/KxfKDcNkwj7kV3w96?g_st=com.google.maps.preview.copy \nThe Yoga session will be held at the Atrium indoors. \nPlease bring a yoga mat\, water and towel. \nKindly fill the details below to confirm your attendance: \n\n\n  \n\n\n\n Your Name\n \n \n Your Email\n \n \nI agree with the Terms and Conditions.\n \n\n \n\n\n\nNote: You can contact us at any time via Call / WhatsApp +971 54 709 7888 & +97144522287
URL:https://heartfulnessmena.org/event/international-day-of-yoga-2025/
ATTACH;FMTTYPE=image/jpeg:https://heartfulnessmena.org/wp-content/uploads/2025/06/Vendor-Instagram-post.jpg
END:VEVENT
BEGIN:VEVENT
DTSTART;TZID=UTC:20250622T080000
DTEND;TZID=UTC:20250622T110000
DTSTAMP:20260423T120113
CREATED:20250620T135140Z
LAST-MODIFIED:20250621T152221Z
UID:2941-1750579200-1750590000@heartfulnessmena.org
SUMMARY:International Yoga Day at the JLT Heartfulness Centre\, Dubai!
DESCRIPTION:Celebrate International Yoga Day at the JLT Heartfulness Centre\, Dubai!\nJoin us for a serene and joyful gathering where all ages are welcome.\nReconnect with yourself and your loved ones through the transformative power of yoga. \nWe invite you all to be part of International Day of Yoga at Heartfulness – JLT on Sunday 22nd June at 8 am to participate and practice together Yoga \,Pranayama \,Relaxation and Meditation. \nThe program will be as follows : \n8 am – 8.50 am – STRETCH YOGA by Sis.Riyam\n9 am- 9.30 am – Light Refreshments (SATVIK FOOD)\n9.30am -10.15 am – Presentation and practical session on breathing techniques (Pranayama) by Sis.Geetha\n10.15am – 11am – Group meditation\nDisperse . \n🏣 The Heartfulness Center\, 1st floor\, Golden Crest Executive\, JLT Cluster C \n📍 Location:\nhttps://maps.app.goo.gl/PqXh39skqiNT6JUc8?g_st=aw \n📌All are welcome.\n📌Kindly bring a Yoga mat\, towel & water. \n 
URL:https://heartfulnessmena.org/event/international-yoga-day-at-the-jlt-heartfulness-centre-dubai/
ATTACH;FMTTYPE=image/png:https://heartfulnessmena.org/wp-content/uploads/2025/06/Celebrate-International-Day-of-Yoga-2025-1.png
END:VEVENT
BEGIN:VEVENT
DTSTART;TZID=UTC:20250921T100000
DTEND;TZID=UTC:20250921T120000
DTSTAMP:20260423T120113
CREATED:20250915T110511Z
LAST-MODIFIED:20251120T075148Z
UID:3038-1758448800-1758456000@heartfulnessmena.org
SUMMARY:Beginners Workshop
DESCRIPTION:On International Peace Day\, join us for a Heartfulness Beginners Workshop to explore core Heartfulness practices at a deeper level. \nInternational Day of Peace – Session at Heartfulness Centre\, JLT\, on September 21st\, 2025. \nOpen to anyone with less than 2 years of experience in Heartfulness. \nBreakfast will be provided for participants. \n\n\n  \n\n\n\n Your Name\n \n \n Your WhatsApp Number\n\n\n \nI agree with the Terms and Conditions.
URL:https://heartfulnessmena.org/event/beginners-workshop/
ATTACH;FMTTYPE=image/jpeg:https://heartfulnessmena.org/wp-content/uploads/2025/09/WhatsApp-Image-2025-09-13-at-23.27.02_4da8d893.jpg
END:VEVENT
BEGIN:VEVENT
DTSTART;TZID=UTC:20251207T063000
DTEND;TZID=UTC:20251207T100000
DTSTAMP:20260423T120113
CREATED:20251118T075816Z
LAST-MODIFIED:20251208T063440Z
UID:3064-1765089000-1765101600@heartfulnessmena.org
SUMMARY:Green Heartfulness Run\, Dubai
DESCRIPTION:Celebrate Green Heartfulness Run\, this year in Dubai !! \nJoin us for a serene and joyful nature Walk/Run around the lake\, where participants of all ages are welcome! \nReconnect with yourself and your loved ones through the transformative power of yoga and meditation.” \nWe invite you all to be part of the Green Heartfulness Run at JLT Lake\, Cluster C\, DMCC\, Dubai\, on December 7th\, 2025 at 6:30 AM. \nTime: 6.30am to 10:00am (Including warm-up exercises\, walk/run\, medal distribution\, snacks\, and meditation). \nVenue: JLT Cluster C\, DMCC\, Dubai. \n\n\n  \n\n\n\n\n	Your Name * (This will appear on the E-certificates)\n	 \n	\n	 \n	Your Phone Number *\n	 \n	\n	 \n	Gender *\n	 \n	MaleFemale\n	 \n	Date of Birth (DD/MM/YY) *\n	 \n	\n	 \n	WhatsApp Number * (We will send event communication and notifications via the WhatsApp channel)\n	 \n	\n	 \n	Email ID * (E-certificates will be mailed to this email address)\n	 \n	\n	 \n	Shirt Size *\n	 \n	MLXLXXLXXXL\n	 \n	Are you a Heartfulness (Sahaj Marg) practitioner? *\n	 \n	YesNo\n	 \n	Heartfulness ID (If not\, enter NA) *\n	 \n	\n	 \n	Choose Your Preference (Multiple selections allowed) *\n	 \n	Green Walk - short (1.4 KM)Green Walk - long (4 KM)Green Run (1.4 to 4 KM)Group Meditation after the Walk/Run\n	 \n	Participation Fee Payment Details:\n	 \n	\n• 15 years & above: AED 30 (includes T-shirt\, medal\, snacks\, meditation\, e-certificate)\n	 \n	• 6 to 14 years: AED 15 (includes medal\, snacks\, cap\, e-certificate)\n	 \n	• 0 to 5 years: Free\n	 \n	Participation Fee Payment *\n	 \n	\nAfter registration\, the payment link will be sent to your email address.\n\nKindly check your inbox and SPAM folder for the payment link.\n\nYour contributions will be used for the event arrangements\, as well as the green and sustainable initiatives led by the Heartfulness UAE team.\n	 \n	By proceeding with registration\, you acknowledge and agree to our Terms and Conditions.\n	 \n	Registrations are now closed. Thank you for your interest.\n	 \n\n\n\n\n 
URL:https://heartfulnessmena.org/event/dubai-green-heartfulness-run-dubai/
ATTACH;FMTTYPE=image/jpeg:https://heartfulnessmena.org/wp-content/uploads/2025/11/HFN-Green.jpeg
END:VEVENT
BEGIN:VEVENT
DTSTART;TZID=UTC:20251221T100000
DTEND;TZID=UTC:20251221T120000
DTSTAMP:20260423T120113
CREATED:20251215T134140Z
LAST-MODIFIED:20251217T143116Z
UID:3206-1766311200-1766318400@heartfulnessmena.org
SUMMARY:World Meditation Day at JLT
DESCRIPTION:On the occasion of World Meditation Day (21st December)\, Heartfulness UAE warmly welcomes all willing hearts to experience the joy of meditation empowered by HEARTFULNESS. \n📆 Sunday\, 21st December 2025🕰️ 10:00 AM (Please be seated by 9:45 AM)👤 Who can attend: Anyone above 15 years of age \n📍 Venue: Heartfulness Center\, 1st Floor\, Gold Crest Executive\, JLT Cluster C \n📌 No fee \n🖥️ If interested\, please register below \n\n\n  \n\n\n\n Your Name\n\n\n \n Your WhatsApp Number\n\n\n \n Your Email\n\n\n \n Have you tried Heartfulness meditation earlier?\nYesNo\n\n \nBy proceeding with registration\, you acknowledge and agree to our\nTerms and Conditions.\n \nRegistrations are now closed. Thank you for your interest.
URL:https://heartfulnessmena.org/event/world-meditation-day-at-jlt/
ATTACH;FMTTYPE=image/png:https://heartfulnessmena.org/wp-content/uploads/2025/12/World-meditation-dya.png
END:VEVENT
BEGIN:VEVENT
DTSTART;TZID=UTC:20251221T183000
DTEND;TZID=UTC:20251221T183000
DTSTAMP:20260423T120113
CREATED:20251208T070616Z
LAST-MODIFIED:20251222T132030Z
UID:3182-1766341800-1766341800@heartfulnessmena.org
SUMMARY:World Meditation Day - 2025
DESCRIPTION:World Meditation DayOne World\, One Heart \nJoin millions worldwide for 20 minutes of guided Heartfulness meditation on \nDec 21\, 2025 – 6:30 PM (GST) \n20 mins of Guided Meditation \nApprox 30 mins \nJoin from Anywhere via YouTube livestream on computer\, phone\, or tablet. \n100\,000 registered! \nOne hundred thousand hearts have already joined us for World Meditation Day on December 21. \nBut we’re not stopping here. Let’s reach one million together. Invite a friend\, share the link\, and spread the peace. \nRegister → hfn.link/meditation
URL:https://heartfulnessmena.org/event/world-meditation-day-2025/
ATTACH;FMTTYPE=image/png:https://heartfulnessmena.org/wp-content/uploads/2025/12/HFN-WMD1.png
END:VEVENT
BEGIN:VEVENT
DTSTART;TZID=UTC:20260201T100000
DTEND;TZID=UTC:20260201T120000
DTSTAMP:20260423T120113
CREATED:20260127T051816Z
LAST-MODIFIED:20260127T132706Z
UID:3315-1769940000-1769947200@heartfulnessmena.org
SUMMARY:Beginners Workshop - 2026
DESCRIPTION:Heartfulness UAE welcomes all willing hearts\, to experience the joy of Meditation. \n📆 1st February\, 2026 (Sunday)\n🕰️ 10AM – 12PM (Pls arrive by 9:45am) \n👤 Who can attend: Anyone above 15years\, first timers or already Heartfulness practitioners \n📍 Heartfulness Center\, 1st floor\, Gold Crest Executive\, JLT Cluster C \n📌 No FEE. \nBreakfast will be provided for participants. \nHeartfulness offers free\, worldwide meditation training\, including guided sessions with certified trainers\, online masterclasses\, and relaxation techniques\, all without cost. \n\n\n  \n\n\n\n Your Name\n \n \n Your WhatsApp Number\n\n\n \n Your Email\n \n \nHow long have you been practicing meditation? \n \nI am a beginner0-1 year1-2 yearsMore than 2 years\n \nI agree with the Terms and Conditions.\n \nRegistrations are now closed. Thank you for your interest.\n \n\n\n\nThe practice is centered on connecting with the heart\, aiming to foster joy\, and providing tools to manage emotions and reduce stress. \n🚙 Parking : Free public parking around JLT \, cluster C once you take ramp \, or alternatively on ground floor . Metro station outside Cluster C\nhttps://maps.app.goo.gl/2ui3y7SSpDi83NFV6?g_st=ic
URL:https://heartfulnessmena.org/event/beginners-workshop-2026/
ATTACH;FMTTYPE=image/png:https://heartfulnessmena.org/wp-content/uploads/2026/01/HFN-Event-Jan-31-Poster-1.png
END:VEVENT
BEGIN:VEVENT
DTSTART;TZID=UTC:20260306T210000
DTEND;TZID=UTC:20261230T212000
DTSTAMP:20260423T120113
CREATED:20260209T133224Z
LAST-MODIFIED:20260306T135821Z
UID:3375-1772830800-1798665600@heartfulnessmena.org
SUMMARY:Universal Prayer for Peace & Unity
DESCRIPTION:
URL:https://heartfulnessmena.org/event/weekend-meditation-session-2026/
ATTACH;FMTTYPE=image/png:https://heartfulnessmena.org/wp-content/uploads/2026/02/Universal-Prayer-for-Peace-Unity.png
END:VEVENT
END:VCALENDAR