BEGIN:VCALENDAR
VERSION:2.0
PRODID:-//heartfulnessmena.org - ECPv6.15.20//NONSGML v1.0//EN
CALSCALE:GREGORIAN
METHOD:PUBLISH
X-WR-CALNAME:heartfulnessmena.org
X-ORIGINAL-URL:https://heartfulnessmena.org
X-WR-CALDESC:Events for heartfulnessmena.org
REFRESH-INTERVAL;VALUE=DURATION:PT1H
X-Robots-Tag:noindex
X-PUBLISHED-TTL:PT1H
BEGIN:VTIMEZONE
TZID:UTC
BEGIN:STANDARD
TZOFFSETFROM:+0000
TZOFFSETTO:+0000
TZNAME:UTC
DTSTART:20210101T000000
END:STANDARD
END:VTIMEZONE
BEGIN:VEVENT
DTSTART;TZID=UTC:20230101T073000
DTEND;TZID=UTC:20230101T083000
DTSTAMP:20260424T161434
CREATED:20230112T094147Z
LAST-MODIFIED:20230303T170733Z
UID:785-1672558200-1672561800@heartfulnessmena.org
SUMMARY:Meditation Session
DESCRIPTION:
URL:https://heartfulnessmena.org/event/meditation-session-2/
LOCATION:Heartfulness\, 108\,Gold Crest Executive – Cluster C Jumeirah Lake Tower – JLT\, Dubai\, United Arab Emirates
ATTACH;FMTTYPE=image/png:https://heartfulnessmena.org/wp-content/uploads/2023/01/HFNUAE_newyear.png
END:VEVENT
BEGIN:VEVENT
DTSTART;TZID=UTC:20221225T070000
DTEND;TZID=UTC:20221225T080000
DTSTAMP:20260424T161434
CREATED:20230112T090209Z
LAST-MODIFIED:20230303T171136Z
UID:782-1671951600-1671955200@heartfulnessmena.org
SUMMARY:Meditation Session
DESCRIPTION:
URL:https://heartfulnessmena.org/event/meditation-session/
LOCATION:Heartfulness\, 108\,Gold Crest Executive – Cluster C Jumeirah Lake Tower – JLT\, Dubai\, United Arab Emirates
ATTACH;FMTTYPE=image/png:https://heartfulnessmena.org/wp-content/uploads/2023/01/Approved-1.png
END:VEVENT
END:VCALENDAR