BEGIN:VCALENDAR
VERSION:2.0
PRODID:-//heartfulnessmena.org - ECPv6.15.20//NONSGML v1.0//EN
CALSCALE:GREGORIAN
METHOD:PUBLISH
X-ORIGINAL-URL:https://heartfulnessmena.org
X-WR-CALDESC:Events for heartfulnessmena.org
REFRESH-INTERVAL;VALUE=DURATION:PT1H
X-Robots-Tag:noindex
X-PUBLISHED-TTL:PT1H
BEGIN:VTIMEZONE
TZID:UTC
BEGIN:STANDARD
TZOFFSETFROM:+0000
TZOFFSETTO:+0000
TZNAME:UTC
DTSTART:20230101T000000
END:STANDARD
END:VTIMEZONE
BEGIN:VEVENT
DTSTART;TZID=UTC:20240901T080000
DTEND;TZID=UTC:20240926T170000
DTSTAMP:20260423T103715
CREATED:20240704T082308Z
LAST-MODIFIED:20240927T115706Z
UID:2529-1725177600-1727370000@heartfulnessmena.org
SUMMARY:Yoga Teacher Training Course\, Dubai
DESCRIPTION:Join our transformative Yoga Teacher Training Course with Heartfulness Yoga Academy in Dubai!\nWhat is the Yoga Teacher Training Course?\nOur 200-hour Yoga Teacher Training Course is a comprehensive program designed to deepen your understanding of yoga\, enhance your personal practice\, and equip you with the skills to teach yoga professionally. This course covers essential aspects such as: \n\nYoga asanas (postures)\nPranayama (breathing techniques)\nMeditation\nAnatomy and physiology\nYoga philosophy\nTeaching methodologies\n\nWho Should Join?\nThis course is perfect for: \n\nAspiring yoga teachers\nPractitioners looking to deepen their knowledge\nHealth and wellness enthusiasts\nFitness professionals seeking to expand their expertise\nAnyone passionate about personal growth and self-discovery through yoga\n\nBenefits of the Training:\n\nComprehensive Learning: Gain a solid foundation in various aspects of yoga.\nCertification: Receive a globally recognized certification from Yoga Alliance.\nPersonal Growth: Experience profound personal transformation and self-discovery.\nTeaching Skills: Learn to structure and teach yoga classes effectively.\nCommunity: Connect with like-minded individuals and build a supportive network.\nCareer Opportunities: Open doors to teaching opportunities worldwide.\n\nWhy Choose Heartfulness Yoga Academy in JLT\, Dubai?\n\nExpert Instructors: Learn from experienced and certified yoga teachers.\nAuthentic Experience: Immerse yourself in traditional yoga practices with a modern approach.\nHolistic Approach: Integrate Heartfulness meditation and heart-centered practices for overall well-being.\nPrime Location: Conveniently located in Jumeirah Lakes Towers (JLT)\, Dubai\, offering a serene and conducive environment for learning and practice.\nComprehensive Support: Receive ongoing support and resources even after the course completion.\n\nCourse Details:\nDuration:\n6 Weeks Online: Sept 1 – Oct 11\, 2024\n2 Weeks Onsite: Oct 12 – Oct 27\, 2024\nCost: $1900 USD\nLocation: Heartfulness Yoga Academy\, JLT\, Dubai\nContact: Email: uae@heartfulness.org | Phone: +971 50 770 5384\nDownload Schedule here:\nhttps://files.cdn.thinkific.com/file_uploads/435645/attachments/045/e91/626/ 8_WEEKS_SCHEDULE_TTC200_Dubai.pdf \nPlease Register by filling the form below \n\n\n  \n\n\n\n Name\n \n \n Email\n \n \n Mobile number\n \n \n Emirate\nDubaiAbu DhabiSharjahAjmanRas Al KhaimahUmm Al QuwainFujairah \n \n Date of Birth\n \n \n Are you a Heartfulness Practitioner?\nYesNo\n \nI agree with the Terms and Conditions.\n \n\n \n\n\n\nSecure your spot in this transformative journey. \nJoin us to transform your practice\, deepen your knowledge\, and embark on a fulfilling journey as a certified yoga teacher. We look forward to welcoming you to our Heartfulness community!
URL:https://heartfulnessmena.org/event/yoga-teacher-training-dubai/
ATTACH;FMTTYPE=image/jpeg:https://heartfulnessmena.org/wp-content/uploads/2024/07/WhatsApp-Image-2024-08-21-at-2.47.14-PM.jpeg
END:VEVENT
END:VCALENDAR