BEGIN:VCALENDAR
VERSION:2.0
PRODID:-//heartfulnessmena.org - ECPv6.15.20//NONSGML v1.0//EN
CALSCALE:GREGORIAN
METHOD:PUBLISH
X-ORIGINAL-URL:https://heartfulnessmena.org
X-WR-CALDESC:Events for heartfulnessmena.org
REFRESH-INTERVAL;VALUE=DURATION:PT1H
X-Robots-Tag:noindex
X-PUBLISHED-TTL:PT1H
BEGIN:VTIMEZONE
TZID:UTC
BEGIN:STANDARD
TZOFFSETFROM:+0000
TZOFFSETTO:+0000
TZNAME:UTC
DTSTART:20230101T000000
END:STANDARD
END:VTIMEZONE
BEGIN:VEVENT
DTSTART;TZID=UTC:20240612T080000
DTEND;TZID=UTC:20240920T170000
DTSTAMP:20260423T131724
CREATED:20240704T064925Z
LAST-MODIFIED:20240704T065233Z
UID:2523-1718179200-1726851600@heartfulnessmena.org
SUMMARY:Heartfulness Essay Event 2024
DESCRIPTION:Heartfulness Education Trust and Shri Ram Chandra Mission in collaboration with the common wealth are organising “The Heartfulness Essay Event 2024” \nFor more details visit:\nhttps://heartfulness.org/education/essay-event/ \nImportant Dates \nOnline Submission of entries from Institutions will open on June 12\, 2024 \nLast date for submission of entries from institutions August 30\, 2024 \nOnline Submission for Direct participants will open on August 30\, 2024 \nLast date for submission of entries from Direct Participants September 20\, 2024 \nDeclaration of winners December 31\, 2024
URL:https://heartfulnessmena.org/event/heartfulness-essay-event-2024/
ATTACH;FMTTYPE=image/jpeg:https://heartfulnessmena.org/wp-content/uploads/2024/07/WhatsApp-Image-2024-07-02-at-5.10.41-PM.jpeg
END:VEVENT
BEGIN:VEVENT
DTSTART;TZID=UTC:20240724T183000
DTEND;TZID=UTC:20240724T210000
DTSTAMP:20260423T131724
CREATED:20240723T145756Z
LAST-MODIFIED:20240724T045908Z
UID:2543-1721845800-1721854800@heartfulnessmena.org
SUMMARY:97th Birth Anniversary of Pujya Shri Chariji Maharaj
DESCRIPTION:Meditation hall at JLT will be open through out the day from 8am onwards. \n6.30pm to 7.15pm -Video\n7.15pm-Relaxation\n7.30pm-Meditation\n8.15pm- Dinner\n9.00pm- Universal prayer
URL:https://heartfulnessmena.org/event/97th-birth-anniversary-of-pujya-shri-chariji-maharaj/
ATTACH;FMTTYPE=image/jpeg:https://heartfulnessmena.org/wp-content/uploads/2024/07/WhatsApp-Image-2024-07-23-at-19.25.15_32828539.jpg
END:VEVENT
END:VCALENDAR