BEGIN:VCALENDAR
VERSION:2.0
PRODID:-//heartfulnessmena.org - ECPv6.15.20//NONSGML v1.0//EN
CALSCALE:GREGORIAN
METHOD:PUBLISH
X-ORIGINAL-URL:https://heartfulnessmena.org
X-WR-CALDESC:Events for heartfulnessmena.org
REFRESH-INTERVAL;VALUE=DURATION:PT1H
X-Robots-Tag:noindex
X-PUBLISHED-TTL:PT1H
BEGIN:VTIMEZONE
TZID:UTC
BEGIN:STANDARD
TZOFFSETFROM:+0000
TZOFFSETTO:+0000
TZNAME:UTC
DTSTART:20230101T000000
END:STANDARD
END:VTIMEZONE
BEGIN:VEVENT
DTSTART;TZID=UTC:20240430T181500
DTEND;TZID=UTC:20240430T213000
DTSTAMP:20260423T161621
CREATED:20240430T054150Z
LAST-MODIFIED:20240430T054640Z
UID:2372-1714500900-1714512600@heartfulnessmena.org
SUMMARY:Babuji’s 125th birth anniversary celebration at HFN Centre\, JLT
DESCRIPTION:Babuji’s 125th birth anniversary celebration at HFN Centre\, JLT: \nDate: 30.4.2024\nDay: Tuesday\nDoors open by:6.15pm\nVideo on Babuji : 6.:30pm\nGroup meditation: 7.15pm\nDinner: 8.15pm\nUniversal prayer:9pm
URL:https://heartfulnessmena.org/event/babujis-125th-birth-anniversary-celebration-at-hfn-centre-jlt/
ATTACH;FMTTYPE=image/png:https://heartfulnessmena.org/wp-content/uploads/2024/04/HFN-Apr-30-post.png
END:VEVENT
END:VCALENDAR