BEGIN:VCALENDAR
VERSION:2.0
PRODID:-//heartfulnessmena.org - ECPv6.15.20//NONSGML v1.0//EN
CALSCALE:GREGORIAN
METHOD:PUBLISH
X-ORIGINAL-URL:https://heartfulnessmena.org
X-WR-CALDESC:Events for heartfulnessmena.org
REFRESH-INTERVAL;VALUE=DURATION:PT1H
X-Robots-Tag:noindex
X-PUBLISHED-TTL:PT1H
BEGIN:VTIMEZONE
TZID:UTC
BEGIN:STANDARD
TZOFFSETFROM:+0000
TZOFFSETTO:+0000
TZNAME:UTC
DTSTART:20220101T000000
END:STANDARD
END:VTIMEZONE
BEGIN:VTIMEZONE
TZID:Asia/Dubai
BEGIN:STANDARD
TZOFFSETFROM:+0400
TZOFFSETTO:+0400
TZNAME:+04
DTSTART:20220101T000000
END:STANDARD
END:VTIMEZONE
BEGIN:VEVENT
DTSTART;TZID=UTC:20231022T073000
DTEND;TZID=UTC:20231022T090000
DTSTAMP:20260424T020220
CREATED:20231107T050048Z
LAST-MODIFIED:20231107T060329Z
UID:2088-1697959800-1697965200@heartfulnessmena.org
SUMMARY:School Connect felicitation Event
DESCRIPTION:7.30am –  Chair Yoga \n7.55am – Heartfulness relaxation followed by Meditation \n8.30am –  Welcome note by Sr Savita \n8.35am  – Handing over of bouquet to the 3 school heads by Sis Shweta Uppu\, Veena and Anjali \n8.37 am – Audio Video presentation of Heartfulness UAE \n8.50am – Handing over of the certificates – by Br Sanjay\, Prabhu\, Leenaji\, Volunteers of School Connect \n8.55am – Acceptance note by the three school heads from GIIS\, NIMS and Springdales. \n9.05am – Vote of Thanks by Sister Vasumathi.
URL:https://heartfulnessmena.org/event/school-connect-felicitation-event/
END:VEVENT
BEGIN:VEVENT
DTSTART;TZID=Asia/Dubai:20231022T100000
DTEND;TZID=Asia/Dubai:20231022T113000
DTSTAMP:20260424T020220
CREATED:20230908T015013Z
LAST-MODIFIED:20231018T121531Z
UID:1880-1697968800-1697974200@heartfulnessmena.org
SUMMARY:Heartfulness session at the Hindu Temple Jebel Ali
DESCRIPTION:Heartfulness team is conducting a wellness session “Towards Recovery and Rest” in the Jabel Ali temple. \nPlease register to the event by submitting the form below. \n\n\n  \n\n\n\n Your name\n \n \n Your email\n \n \n Are you a Heartfulness Practitioner?\nYesNo\n \n Your WhatsApp number\n \n \nI agree with the Heartfulness Privacy Policy  and Terms and Conditions.\n \nI agree and accept that my email ID and Whatsapp number shall be used to communicate with the Heartfulness activities in this region.
URL:https://heartfulnessmena.org/event/heartfulness-session-at-the-hindu-temple-jebel-ali/
ATTACH;FMTTYPE=image/jpeg:https://heartfulnessmena.org/wp-content/uploads/2023/09/WhatsApp-Image-2023-10-16-at-8.58.16-AM.jpeg
END:VEVENT
END:VCALENDAR