BEGIN:VCALENDAR
VERSION:2.0
PRODID:-//heartfulnessmena.org - ECPv6.15.20//NONSGML v1.0//EN
CALSCALE:GREGORIAN
METHOD:PUBLISH
X-ORIGINAL-URL:https://heartfulnessmena.org
X-WR-CALDESC:Events for heartfulnessmena.org
REFRESH-INTERVAL;VALUE=DURATION:PT1H
X-Robots-Tag:noindex
X-PUBLISHED-TTL:PT1H
BEGIN:VTIMEZONE
TZID:UTC
BEGIN:STANDARD
TZOFFSETFROM:+0000
TZOFFSETTO:+0000
TZNAME:UTC
DTSTART:20220101T000000
END:STANDARD
END:VTIMEZONE
BEGIN:VEVENT
DTSTART;TZID=UTC:20230724T100000
DTEND;TZID=UTC:20230724T180000
DTSTAMP:20260424T050938
CREATED:20230725T070227Z
LAST-MODIFIED:20230725T070227Z
UID:1786-1690192800-1690221600@heartfulnessmena.org
SUMMARY:Pujya Shri Parthasarathi Rajagopalachari’s 96th Birth Anniversary Celebration\, Dubai
DESCRIPTION:Pujya Shri Parthasarathi Rajagopalachari’s 96th birth anniversary celebration will be held in Dubai at our Heartfulness Meditation center in Jumeirah Lake Towers. Over 200 practitioners will participate in the magnificent evening that will commence with Chariji’s biography video\, followed by Heartfulness Meditation\, and we will close the evening with dinner.
URL:https://heartfulnessmena.org/event/pujya-shri-parthasarathi-rajagopalacharis-96th-birth-anniversary-celebration-dubai/
END:VEVENT
END:VCALENDAR