BEGIN:VCALENDAR
VERSION:2.0
PRODID:-//heartfulnessmena.org - ECPv6.15.20//NONSGML v1.0//EN
CALSCALE:GREGORIAN
METHOD:PUBLISH
X-WR-CALNAME:heartfulnessmena.org
X-ORIGINAL-URL:https://heartfulnessmena.org
X-WR-CALDESC:Events for heartfulnessmena.org
REFRESH-INTERVAL;VALUE=DURATION:PT1H
X-Robots-Tag:noindex
X-PUBLISHED-TTL:PT1H
BEGIN:VTIMEZONE
TZID:UTC
BEGIN:STANDARD
TZOFFSETFROM:+0000
TZOFFSETTO:+0000
TZNAME:UTC
DTSTART:20220101T000000
END:STANDARD
END:VTIMEZONE
BEGIN:VEVENT
DTSTART;TZID=UTC:20230604T152000
DTEND;TZID=UTC:20230604T200000
DTSTAMP:20260424T060418
CREATED:20230524T163439Z
LAST-MODIFIED:20230529T102149Z
UID:1426-1685892000-1685908800@heartfulnessmena.org
SUMMARY:Yoga4Unity\, AbuDhabi (A free event)
DESCRIPTION:Please find the flow of events as given below. \n3.20 pm – Registration\n4:00 pm – National Anthem of UAE and India\n4.05 pm – Welcome address by Mr Sanjay Meherish\, Regional Director\, Hearfulness MENA region\n4.10 pm – Address by Chief Guest Mr A Amarnath\, DCM\, India embassy\n4.15 pm – Heartfulness felicitates the chief guest\n4.30 pm – Heartfulness Yoga\, pranayama and relaxation\n5.30 pm – Talk by Yogi Manish Pole on One Breath One World\n6.20 pm – Laughter Yoga\n6.50 pm – Sound Yoga\n7.20 pm – Heartfulness Meditation\n7.50 pm – Felicitation\n8.00 pm – Vote of thanks \nPlease register by filling the form below. \n\n\n  \n\n\n\n Your name\n \n \n Your email\n \n \n Are you a Heartfulness Practitioner?\nYesNo\n \n Your message (optional)\n \n \nI agree with the Terms and Conditions.\n \nI agree and accept that my email ID and Whatsapp number shall be used to communicate with the Heartfulness activities in this region.\n \n\n \n\n\n\nDisclaimer: At this event\, events and photos may be recorded. By attending this event\, you may be included in these photos and videos. Your attendance at this event grants your permission to be in these photos or videos\, which may be used for educational\, archival or promotional purposes. \nNote:  \n1. Please note one parent shall accompany their respective child who is below 15 yrs of age as we would need to maintain silence during most of the programs. \n2.Please bring the essentials like yoga Mat\, water bottle\, towels as need be.
URL:https://heartfulnessmena.org/event/yoga4unityabudhabi/
ATTACH;FMTTYPE=image/jpeg:https://heartfulnessmena.org/wp-content/uploads/2023/05/Yoga4unity_Invite_FB-1200x1200px-scaled.jpg
END:VEVENT
END:VCALENDAR