BEGIN:VCALENDAR
VERSION:2.0
PRODID:-//heartfulnessmena.org - ECPv6.15.20//NONSGML v1.0//EN
CALSCALE:GREGORIAN
METHOD:PUBLISH
X-ORIGINAL-URL:https://heartfulnessmena.org
X-WR-CALDESC:Events for heartfulnessmena.org
REFRESH-INTERVAL;VALUE=DURATION:PT1H
X-Robots-Tag:noindex
X-PUBLISHED-TTL:PT1H
BEGIN:VTIMEZONE
TZID:UTC
BEGIN:STANDARD
TZOFFSETFROM:+0000
TZOFFSETTO:+0000
TZNAME:UTC
DTSTART:20220101T000000
END:STANDARD
END:VTIMEZONE
BEGIN:VEVENT
DTSTART;TZID=UTC:20230502T060000
DTEND;TZID=UTC:20230522T180000
DTSTAMP:20260424T071507
CREATED:20230501T133215Z
LAST-MODIFIED:20230501T133745Z
UID:1405-1683007200-1684778400@heartfulnessmena.org
SUMMARY:"Train the Trainer\, at Heartfulness Center\, JLT from May 2 to May 22\, 2023."
DESCRIPTION:
URL:https://heartfulnessmena.org/event/yoga-for-train-the-trainer-at-heartfulness-center-jlt-from-may-2-22-2023/
ATTACH;FMTTYPE=image/png:https://heartfulnessmena.org/wp-content/uploads/2023/05/HFN-May-3-post.png
END:VEVENT
BEGIN:VEVENT
DTSTART;TZID=UTC:20230506T080000
DTEND;TZID=UTC:20230507T070000
DTSTAMP:20260424T071507
CREATED:20230328T050218Z
LAST-MODIFIED:20230501T133830Z
UID:1326-1683360000-1683442800@heartfulnessmena.org
SUMMARY:Every Weekend Yoga & Meditation
DESCRIPTION:Please bring a Yoga mat\, water bottle and a towel.
URL:https://heartfulnessmena.org/event/every-weekend-yoga-meditation/
ATTACH;FMTTYPE=image/jpeg:https://heartfulnessmena.org/wp-content/uploads/2023/03/HFN-website.jpeg
END:VEVENT
END:VCALENDAR