BEGIN:VCALENDAR
VERSION:2.0
PRODID:-//heartfulnessmena.org - ECPv6.15.20//NONSGML v1.0//EN
CALSCALE:GREGORIAN
METHOD:PUBLISH
X-ORIGINAL-URL:https://heartfulnessmena.org
X-WR-CALDESC:Events for heartfulnessmena.org
REFRESH-INTERVAL;VALUE=DURATION:PT1H
X-Robots-Tag:noindex
X-PUBLISHED-TTL:PT1H
BEGIN:VTIMEZONE
TZID:UTC
BEGIN:STANDARD
TZOFFSETFROM:+0000
TZOFFSETTO:+0000
TZNAME:UTC
DTSTART:20220101T000000
END:STANDARD
END:VTIMEZONE
BEGIN:VEVENT
DTSTART;TZID=UTC:20230304T080000
DTEND;TZID=UTC:20230304T210000
DTSTAMP:20260424T090806
CREATED:20230303T174401Z
LAST-MODIFIED:20230304T081102Z
UID:970-1677916800-1677963600@heartfulnessmena.org
SUMMARY:Join our Yoga Session on every Saturday
DESCRIPTION:
URL:https://heartfulnessmena.org/event/join-our-yoga-session-on-every-saturday/
LOCATION:Heartfulness\, 108\,Gold Crest Executive – Cluster C Jumeirah Lake Tower – JLT\, Dubai\, United Arab Emirates
ATTACH;FMTTYPE=image/jpeg:https://heartfulnessmena.org/wp-content/uploads/2023/03/334193485_717370749862540_625834547530289996_n.jpg
END:VEVENT
END:VCALENDAR